BEGIN:VCALENDAR
VERSION:2.0
PRODID:-//151ft Shree 108 Panchmukhi Balaji - ECPv6.15.16.1//NONSGML v1.0//EN
CALSCALE:GREGORIAN
METHOD:PUBLISH
X-ORIGINAL-URL:https://151ftpanchmukhibalaji.org
X-WR-CALDESC:Events for 151ft Shree 108 Panchmukhi Balaji
REFRESH-INTERVAL;VALUE=DURATION:PT1H
X-Robots-Tag:noindex
X-PUBLISHED-TTL:PT1H
BEGIN:VTIMEZONE
TZID:UTC
BEGIN:STANDARD
TZOFFSETFROM:+0000
TZOFFSETTO:+0000
TZNAME:UTC
DTSTART:20250101T000000
END:STANDARD
END:VTIMEZONE
BEGIN:VEVENT
DTSTART;TZID=UTC:20260302T183000
DTEND;TZID=UTC:20260302T200000
DTSTAMP:20260423T183925
CREATED:20260309T105547Z
LAST-MODIFIED:20260309T105547Z
UID:12245-1772476200-1772481600@151ftpanchmukhibalaji.org
SUMMARY:Holi Mahotsav
DESCRIPTION:All Guru devotees are hereby informed that a Holi Festival (Holi Mahotsav) program has been organized at Guru Dham Ashram\, Prem Nagar\, Shishvi. \nAll devotees are requested to participate in this sacred celebration with faith\, devotion\, and enthusiasm. \nLet us come together to celebrate the festival of Holi and seek divine blessings. 🌸🙏
URL:https://151ftpanchmukhibalaji.org/event/holi-mahotsav/
CATEGORIES:Events
ATTACH;FMTTYPE=image/webp:https://151ftpanchmukhibalaji.org/wp-content/uploads/2026/03/cnu4v44o_holika-dahan-2025_625x300_11_March_25.webp
END:VEVENT
END:VCALENDAR