BEGIN:VCALENDAR
VERSION:2.0
PRODID:-//151ft Shree 108 Panchmukhi Balaji - ECPv6.15.16.1//NONSGML v1.0//EN
CALSCALE:GREGORIAN
METHOD:PUBLISH
X-WR-CALNAME:151ft Shree 108 Panchmukhi Balaji
X-ORIGINAL-URL:https://151ftpanchmukhibalaji.org
X-WR-CALDESC:Events for 151ft Shree 108 Panchmukhi Balaji
REFRESH-INTERVAL;VALUE=DURATION:PT1H
X-Robots-Tag:noindex
X-PUBLISHED-TTL:PT1H
BEGIN:VTIMEZONE
TZID:UTC
BEGIN:STANDARD
TZOFFSETFROM:+0000
TZOFFSETTO:+0000
TZNAME:UTC
DTSTART:20220101T000000
END:STANDARD
END:VTIMEZONE
BEGIN:VTIMEZONE
TZID:Europe/London
BEGIN:DAYLIGHT
TZOFFSETFROM:+0000
TZOFFSETTO:+0100
TZNAME:BST
DTSTART:20220327T010000
END:DAYLIGHT
BEGIN:STANDARD
TZOFFSETFROM:+0100
TZOFFSETTO:+0000
TZNAME:GMT
DTSTART:20221030T010000
END:STANDARD
BEGIN:DAYLIGHT
TZOFFSETFROM:+0000
TZOFFSETTO:+0100
TZNAME:BST
DTSTART:20230326T010000
END:DAYLIGHT
BEGIN:STANDARD
TZOFFSETFROM:+0100
TZOFFSETTO:+0000
TZNAME:GMT
DTSTART:20231029T010000
END:STANDARD
BEGIN:DAYLIGHT
TZOFFSETFROM:+0000
TZOFFSETTO:+0100
TZNAME:BST
DTSTART:20240331T010000
END:DAYLIGHT
BEGIN:STANDARD
TZOFFSETFROM:+0100
TZOFFSETTO:+0000
TZNAME:GMT
DTSTART:20241027T010000
END:STANDARD
END:VTIMEZONE
BEGIN:VEVENT
DTSTART;TZID=UTC:20260215T080000
DTEND;TZID=UTC:20260216T000000
DTSTAMP:20260423T213636
CREATED:20260309T105905Z
LAST-MODIFIED:20260309T121641Z
UID:12260-1771142400-1771200000@151ftpanchmukhibalaji.org
SUMMARY:Mahashivratri Celebration
DESCRIPTION:All Guru devotees are informed that on the auspicious occasion of Maha Shivaratri\, a special spiritual program is being organized at Guru Dham Prem Nagar Ashram\, Manshapurn Mahadev. \nThe day will begin with Rudrabhishek and Rudri Path starting from 8:00 AM. After that\, Lord Shiva’s worship and a grand Aarti will be performed. Devotional Bhajan–Kirtan will take place and Prasad will be distributed to all devotees. \nIn the evening\, the Bhajan–Kirtan program will start at 7:00 PM\, followed by a grand midnight Aarti at 12:00 AM. \nAll devotees are warmly invited to participate in this sacred celebration and receive the divine blessings of Lord Shiva. \n“सभी गुरूभक्त जनों को महाशिवरात्रि के पावन अवसर पर श्री गुरुधाम प्रेमनगर आश्रम मंशापूर्ण महादेव के कार्यक्रम का आयोजन किया जा रहा है। सुबह 8 बजे से रुद्राभिषेक और रूद्री पाठ होगा\,\nइसके पश्चात महा शिवजी की पूजा और भव्य आरती का आयोजन होगा\nऔर भजन कीर्तन\, प्रसाद का वितरण किया जाएगा।\nभजन कीर्तन का कार्यक्रम साय 7बजे से रखी गई है उसके पश्चात् रात 12 बजे भव्य आरती का कार्यक्रम रहेगा।
URL:https://151ftpanchmukhibalaji.org/event/mahashivratri-celebration/
CATEGORIES:Events
ATTACH;FMTTYPE=image/jpeg:https://151ftpanchmukhibalaji.org/wp-content/uploads/2026/03/mahashivratri-rudrabhishek.jpg
END:VEVENT
BEGIN:VEVENT
DTSTART;TZID=UTC:20260114T070000
DTEND;TZID=UTC:20260114T110000
DTSTAMP:20260423T213636
CREATED:20260114T112258Z
LAST-MODIFIED:20260309T121713Z
UID:12303-1768374000-1768388400@151ftpanchmukhibalaji.org
SUMMARY:"जय गौ माता जय गोपाल"
DESCRIPTION:In Guru Dham Prem Nagar\, ‘Guru’\, ‘Govind’\, and ‘Gau Mata’ are seated in one place. These three are seated in one place. All the gods and goddesses are seated there. There is no pilgrimage greater than this; hence\, all the Guru devotees must take advantage of such an opportunity in the morning. We should become such virtuous rebels and take advantage of the opportunity in the morning. Jai Gau Mata\, Jai Gopal\, and Jai Gurudev.
URL:https://151ftpanchmukhibalaji.org/event/%e0%a4%9c%e0%a4%af-%e0%a4%97%e0%a5%8c-%e0%a4%ae%e0%a4%be%e0%a4%a4%e0%a4%be-%e0%a4%9c%e0%a4%af-%e0%a4%97%e0%a5%8b%e0%a4%aa%e0%a4%be%e0%a4%b2%e0%a4%be-2/
CATEGORIES:Events
ATTACH;FMTTYPE=image/jpeg:https://151ftpanchmukhibalaji.org/wp-content/uploads/2026/03/ce6bd44cd8fc20ab5c30aa9df035569b.jpg
END:VEVENT
BEGIN:VEVENT
DTSTART;TZID=UTC:20240324T210000
DTEND;TZID=UTC:20240324T230000
DTSTAMP:20260423T213636
CREATED:20240416T121430Z
LAST-MODIFIED:20240418T093410Z
UID:10255-1711314000-1711321200@151ftpanchmukhibalaji.org
SUMMARY:HOLIKA DAHAN
DESCRIPTION:
URL:https://151ftpanchmukhibalaji.org/event/holika-dahan/
CATEGORIES:Events
ATTACH;FMTTYPE=image/jpeg:https://151ftpanchmukhibalaji.org/wp-content/uploads/2024/04/WhatsApp-Image-2024-04-18-at-2.53.00-PM.jpeg
END:VEVENT
BEGIN:VEVENT
DTSTART;TZID=UTC:20240115T080000
DTEND;TZID=UTC:20240115T170000
DTSTAMP:20260423T213636
CREATED:20240113T064541Z
LAST-MODIFIED:20260310T050017Z
UID:10106-1705305600-1705338000@151ftpanchmukhibalaji.org
SUMMARY:जय गौ माता जय गोपाल
DESCRIPTION:In Guru Dham Prem Nagar\, ‘Guru’\, ‘Govind’\, and ‘Gau Mata’ are seated in one place. These three are seated in one place. All the gods and goddesses are seated there. There is no pilgrimage greater than this; hence\, all the Guru devotees must take advantage of such an opportunity in the morning. We should become such virtuous rebels and take advantage of the opportunity in the morning. Jai Gau Mata\, Jai Gopal\, and Jai Gurudev.
URL:https://151ftpanchmukhibalaji.org/event/%e0%a4%9c%e0%a4%af-%e0%a4%97%e0%a5%8c-%e0%a4%ae%e0%a4%be%e0%a4%a4%e0%a4%be-%e0%a4%9c%e0%a4%af-%e0%a4%97%e0%a5%8b%e0%a4%aa%e0%a4%be%e0%a4%b2%e0%a4%be/
CATEGORIES:Events
ATTACH;FMTTYPE=image/webp:https://151ftpanchmukhibalaji.org/wp-content/uploads/2023/10/logo.webp
END:VEVENT
BEGIN:VEVENT
DTSTART;TZID=Europe/London:20231112T000000
DTEND;TZID=Europe/London:20231112T235900
DTSTAMP:20260423T213636
CREATED:20251020T093420Z
LAST-MODIFIED:20260309T110039Z
UID:264-1699747200-1699833540@151ftpanchmukhibalaji.org
SUMMARY:Laxmi Loot
DESCRIPTION:The festival of Diwali brings with it a long list of events\, celebrations\, pujas and rituals. The central highlight of Diwali is inviting prosperity into households and businesses by performing Lakshmi puja. Laxmi is the goddess of wealth and the consort of Lord Vishnu. The arrival of Laxmi during the Diwali celebrations lights up homes with hope\, auspiciousness\, wealth and positive development. Hence Diwali is psychologically refreshing and recharging for people. Here is a simple procedure for doing Laxmi puja at home.
URL:https://151ftpanchmukhibalaji.org/event/laxmi-loot/
CATEGORIES:Events
ATTACH;FMTTYPE=image/webp:https://151ftpanchmukhibalaji.org/wp-content/uploads/2018/12/o9twc820r9.webp
ORGANIZER;CN="Shree 108 Panchmukhi Balaji Vikas Samiti":MAILTO:gurudhampramnagar @gmail.com
END:VEVENT
BEGIN:VEVENT
DTSTART;TZID=Europe/London:20231028T090000
DTEND;TZID=Europe/London:20231028T220000
DTSTAMP:20260423T213636
CREATED:20181211T092146Z
LAST-MODIFIED:20231027T203906Z
UID:260-1698483600-1698530400@151ftpanchmukhibalaji.org
SUMMARY:Sharad Purnima Mela
DESCRIPTION:Sharad Purnima is a religious festival celebrated on the full moon day of the Hindu lunar month of Ashvin\, marking the end of the monsoon season. The full moon night is celebrated in different ways in various cultural regions across South Asia
URL:https://151ftpanchmukhibalaji.org/event/sharad-purnima-mela/
LOCATION:Shree Gurudham premnagar kurabad Road Shishvi Uaipur(Raj.) 313703\, Shree Gurudham premnagar kurabad Road Shishvi\, Uaipur\, Rajasthan\, 313703\, India
CATEGORIES:Upcoming Events
ATTACH;FMTTYPE=image/jpeg:https://151ftpanchmukhibalaji.org/wp-content/uploads/2018/12/sundar-nagar-diwali.jpg
ORGANIZER;CN="Shree 108 Panchmukhi Balaji Vikas Samiti":MAILTO:gurudhampramnagar @gmail.com
END:VEVENT
BEGIN:VEVENT
DTSTART;TZID=Europe/London:20231024T100000
DTEND;TZID=Europe/London:20231209T170000
DTSTAMP:20260423T213636
CREATED:20181211T090853Z
LAST-MODIFIED:20240506T103304Z
UID:256-1698141600-1702141200@151ftpanchmukhibalaji.org
SUMMARY:Dussehra
DESCRIPTION:
URL:https://151ftpanchmukhibalaji.org/event/dussehra/
LOCATION:Vihara Studio\, Shree Gurudham premnagar kurabad Road Shishvi 313703\, Uaipur(Raj.)\, Rajasthan\, 313703
CATEGORIES:Events
ATTACH;FMTTYPE=image/jpeg:https://151ftpanchmukhibalaji.org/wp-content/uploads/2018/12/istockphoto-1222572054-612x612-1.jpg
ORGANIZER;CN="Shree 108 Panchmukhi Balaji Vikas Samiti":MAILTO:gurudhampramnagar @gmail.com
END:VEVENT
BEGIN:VEVENT
DTSTART;TZID=Europe/London:20231015T090000
DTEND;TZID=Europe/London:20231129T163000
DTSTAMP:20260423T213636
CREATED:20181211T085723Z
LAST-MODIFIED:20240506T103423Z
UID:252-1697360400-1701275400@151ftpanchmukhibalaji.org
SUMMARY:Navaratri (Garba)
DESCRIPTION:
URL:https://151ftpanchmukhibalaji.org/event/navaratri-garba/
LOCATION:Vihara Studio\, Shree Gurudham premnagar kurabad Road Shishvi 313703\, Uaipur(Raj.)\, Rajasthan\, 313703
CATEGORIES:Events
ATTACH;FMTTYPE=image/jpeg:https://151ftpanchmukhibalaji.org/wp-content/uploads/2018/12/20220924-KPT-SK-MN-54-0_1664180820199_1664180820199_1664180981399_1664180981399.jpg
ORGANIZER;CN="Shree 108 Panchmukhi Balaji Vikas Samiti":MAILTO:gurudhampramnagar @gmail.com
END:VEVENT
BEGIN:VEVENT
DTSTART;TZID=UTC:20230907T000000
DTEND;TZID=UTC:20230907T000000
DTSTAMP:20260423T213636
CREATED:20231009T105938Z
LAST-MODIFIED:20240510T113850Z
UID:7870-1694044800-1694044800@151ftpanchmukhibalaji.org
SUMMARY:Janmashtami
DESCRIPTION:
URL:https://151ftpanchmukhibalaji.org/event/janmashtami/
CATEGORIES:Events
ATTACH;FMTTYPE=image/jpeg:https://151ftpanchmukhibalaji.org/wp-content/uploads/2023/10/WhatsApp-Image-2024-05-10-at-5.06.52-PM.jpeg
END:VEVENT
BEGIN:VEVENT
DTSTART;VALUE=DATE:20230703
DTEND;VALUE=DATE:20230704
DTSTAMP:20260423T213636
CREATED:20231009T105335Z
LAST-MODIFIED:20240713T122149Z
UID:7867-1688342400-1688428799@151ftpanchmukhibalaji.org
SUMMARY:Guru Purnima
DESCRIPTION:
URL:https://151ftpanchmukhibalaji.org/event/guru-purnima/
CATEGORIES:Events
ATTACH;FMTTYPE=image/png:https://151ftpanchmukhibalaji.org/wp-content/uploads/2023/10/Guru-ji-768x790-1.png
END:VEVENT
BEGIN:VEVENT
DTSTART;TZID=UTC:20230530T000000
DTEND;TZID=UTC:20230530T000000
DTSTAMP:20260423T213636
CREATED:20231009T104451Z
LAST-MODIFIED:20231028T061039Z
UID:7864-1685404800-1685404800@151ftpanchmukhibalaji.org
SUMMARY:Ram Navami
DESCRIPTION:
URL:https://151ftpanchmukhibalaji.org/event/ram-navami/
CATEGORIES:Events
ATTACH;FMTTYPE=image/jpeg:https://151ftpanchmukhibalaji.org/wp-content/uploads/2023/10/ramnavmi.jpg
END:VEVENT
END:VCALENDAR