BEGIN:VCALENDAR
VERSION:2.0
PRODID:-//151ft Shree 108 Panchmukhi Balaji - ECPv6.15.16.1//NONSGML v1.0//EN
CALSCALE:GREGORIAN
METHOD:PUBLISH
X-ORIGINAL-URL:https://151ftpanchmukhibalaji.org
X-WR-CALDESC:Events for 151ft Shree 108 Panchmukhi Balaji
REFRESH-INTERVAL;VALUE=DURATION:PT1H
X-Robots-Tag:noindex
X-PUBLISHED-TTL:PT1H
BEGIN:VTIMEZONE
TZID:UTC
BEGIN:STANDARD
TZOFFSETFROM:+0000
TZOFFSETTO:+0000
TZNAME:UTC
DTSTART:20250101T000000
END:STANDARD
END:VTIMEZONE
BEGIN:VEVENT
DTSTART;TZID=UTC:20260302T183000
DTEND;TZID=UTC:20260302T200000
DTSTAMP:20260424T004552
CREATED:20260309T105547Z
LAST-MODIFIED:20260309T105547Z
UID:12245-1772476200-1772481600@151ftpanchmukhibalaji.org
SUMMARY:Holi Mahotsav
DESCRIPTION:All Guru devotees are hereby informed that a Holi Festival (Holi Mahotsav) program has been organized at Guru Dham Ashram\, Prem Nagar\, Shishvi. \nAll devotees are requested to participate in this sacred celebration with faith\, devotion\, and enthusiasm. \nLet us come together to celebrate the festival of Holi and seek divine blessings. 🌸🙏
URL:https://151ftpanchmukhibalaji.org/event/holi-mahotsav/
CATEGORIES:Events
ATTACH;FMTTYPE=image/webp:https://151ftpanchmukhibalaji.org/wp-content/uploads/2026/03/cnu4v44o_holika-dahan-2025_625x300_11_March_25.webp
END:VEVENT
BEGIN:VEVENT
DTSTART;VALUE=DATE:20260303
DTEND;VALUE=DATE:20260304
DTSTAMP:20260424T004552
CREATED:20260309T103843Z
LAST-MODIFIED:20260309T104722Z
UID:12243-1772496000-1772582399@151ftpanchmukhibalaji.org
SUMMARY:Rango Ki Holi Celebration
DESCRIPTION:Join us for a joyful and colorful celebration of Rango Ki Holi at Guru Dham.Celebrate the festival of colors with devotion\, happiness\, music\, and togetherness. \n✨ Colorful Holi Celebration🎶 Devotional Music & Dance🍬 Prasad & Refreshments🙏 Blessings of Guru Ji \nCome with your family and friends to enjoy the divine and vibrant Holi celebration.
URL:https://151ftpanchmukhibalaji.org/event/rango-ki-holi-celebration/
CATEGORIES:Events
ATTACH;FMTTYPE=image/jpeg:https://151ftpanchmukhibalaji.org/wp-content/uploads/2026/03/holi-festival-colors-illustration-scaled.jpg
END:VEVENT
BEGIN:VEVENT
DTSTART;TZID=UTC:20260310T190000
DTEND;TZID=UTC:20260310T220000
DTSTAMP:20260424T004552
CREATED:20260309T104346Z
LAST-MODIFIED:20260309T105305Z
UID:12250-1773169200-1773180000@151ftpanchmukhibalaji.org
SUMMARY:Grand Gair Dance Celebration
DESCRIPTION:It is our pleasure to inform all devotees that every year after the festival of Holi\, a grand Gair Dance celebration is organized at Guru Dham\, Prem Nagar\, Shishvi. This traditional and devotional event brings together devotees from various villages to celebrate culture\, devotion\, and unity. \nIn the year 2026\, under the divine guidance and blessings ofShri Manohar Girdhari Das Ji Maharaj\, the respected Mahamandaleshwar\, the Gair Dance event will be held on 10 March 2026 (Tuesday). \nDevotees from different villages will participate in the traditional Gair dance\, making the evening vibrant and spiritually uplifting. \nAll Guru devotees are cordially invited to attend this sacred event and receive the divine blessings of Gurudev. \n:गुरूधाम मे गैर नृत्य का आयोजन-:\nआप सभी को विधित हैकि-रंगो के त्यौहार होली के बाद प्रति वर्ष गुरूधाम प्रेम नगर शिशवी मे गैर नृत्य का भव्य आयोजन किया जाता है। इस वर्ष 2026 मे भी महामण्डलेश्वर पूज्य गुरुदेव श्रीश्री1008 श्री मनोहर गिरधारी दास जी महाराज *महात्यागी के सानिध्य मे दिनांक 10-03-2026(मंगलवार) को गैर नृत्य का आयोजन किया जा रहा है\, जिसमे विभिन्न गांवो से भक्तजन गैर नृत्य के लिए आयेगे। अतः सभी गुरूभक्तो से अनुरोध है कि -गैर नृत्य के इस आयोजन मे पधार कर पूज्य गुरुदेव श्री का शुभ आशीर्वाद प्राप्त करे।
URL:https://151ftpanchmukhibalaji.org/event/grand-gair-dance-celebration/
CATEGORIES:Events
ATTACH;FMTTYPE=image/jpeg:https://151ftpanchmukhibalaji.org/wp-content/uploads/2026/03/4.-httpwww.thehindu.comfeatureskidsmela-at-pushkararticle4136364.ece_-e1773053570132.jpg
END:VEVENT
END:VCALENDAR