BEGIN:VCALENDAR
VERSION:2.0
PRODID:-//151ft Shree 108 Panchmukhi Balaji - ECPv6.15.16.1//NONSGML v1.0//EN
CALSCALE:GREGORIAN
METHOD:PUBLISH
X-ORIGINAL-URL:https://151ftpanchmukhibalaji.org
X-WR-CALDESC:Events for 151ft Shree 108 Panchmukhi Balaji
REFRESH-INTERVAL;VALUE=DURATION:PT1H
X-Robots-Tag:noindex
X-PUBLISHED-TTL:PT1H
BEGIN:VTIMEZONE
TZID:UTC
BEGIN:STANDARD
TZOFFSETFROM:+0000
TZOFFSETTO:+0000
TZNAME:UTC
DTSTART:20250101T000000
END:STANDARD
END:VTIMEZONE
BEGIN:VEVENT
DTSTART;TZID=UTC:20260114T070000
DTEND;TZID=UTC:20260114T110000
DTSTAMP:20260423T200914
CREATED:20260114T112258Z
LAST-MODIFIED:20260309T121713Z
UID:12303-1768374000-1768388400@151ftpanchmukhibalaji.org
SUMMARY:"जय गौ माता जय गोपाल"
DESCRIPTION:In Guru Dham Prem Nagar\, ‘Guru’\, ‘Govind’\, and ‘Gau Mata’ are seated in one place. These three are seated in one place. All the gods and goddesses are seated there. There is no pilgrimage greater than this; hence\, all the Guru devotees must take advantage of such an opportunity in the morning. We should become such virtuous rebels and take advantage of the opportunity in the morning. Jai Gau Mata\, Jai Gopal\, and Jai Gurudev.
URL:https://151ftpanchmukhibalaji.org/event/%e0%a4%9c%e0%a4%af-%e0%a4%97%e0%a5%8c-%e0%a4%ae%e0%a4%be%e0%a4%a4%e0%a4%be-%e0%a4%9c%e0%a4%af-%e0%a4%97%e0%a5%8b%e0%a4%aa%e0%a4%be%e0%a4%b2%e0%a4%be-2/
CATEGORIES:Events
ATTACH;FMTTYPE=image/jpeg:https://151ftpanchmukhibalaji.org/wp-content/uploads/2026/03/ce6bd44cd8fc20ab5c30aa9df035569b.jpg
END:VEVENT
END:VCALENDAR